BEGIN:VCALENDAR
VERSION:2.0
PRODID:-//. - ECPv6.0.13.1//NONSGML v1.0//EN
CALSCALE:GREGORIAN
METHOD:PUBLISH
X-ORIGINAL-URL:https://tea.iatefl.org
X-WR-CALDESC:Events for .
REFRESH-INTERVAL;VALUE=DURATION:PT1H
X-Robots-Tag:noindex
X-PUBLISHED-TTL:PT1H
BEGIN:VTIMEZONE
TZID:UTC
BEGIN:STANDARD
TZOFFSETFROM:+0000
TZOFFSETTO:+0000
TZNAME:UTC
DTSTART:20250101T000000
END:STANDARD
END:VTIMEZONE
BEGIN:VEVENT
DTSTART;TZID=UTC:20250407T093000
DTEND;TZID=UTC:20250407T170000
DTSTAMP:20260423T065825
CREATED:20241025T081332Z
LAST-MODIFIED:20241025T081332Z
UID:2905-1744018200-1744045200@tea.iatefl.org
SUMMARY:IATEFL\, Edinburgh 2025: TEASIG Pre-Confernece Event
DESCRIPTION:
URL:https://tea.iatefl.org/event/iatefl-edinburgh-2025-teasig-pre-confernece-event/
LOCATION:EICC\, The Exchange\, 150 Morrison St\, Edinburgh EH3 8EE\, EH3 8EE\, United Kingdom
END:VEVENT
BEGIN:VEVENT
DTSTART;TZID=UTC:20250430T170000
DTEND;TZID=UTC:20250430T180000
DTSTAMP:20260423T065825
CREATED:20250418T203828Z
LAST-MODIFIED:20250418T203828Z
UID:3005-1746032400-1746036000@tea.iatefl.org
SUMMARY:TEASIG Webinar: How does assessment shape student identities?
DESCRIPTION:
URL:https://tea.iatefl.org/event/teasig-webinar-how-does-assessment-shape-student-identities/
END:VEVENT
END:VCALENDAR