BEGIN:VCALENDAR
VERSION:2.0
PRODID:-//. - ECPv6.0.13.1//NONSGML v1.0//EN
CALSCALE:GREGORIAN
METHOD:PUBLISH
X-WR-CALNAME:.
X-ORIGINAL-URL:https://tea.iatefl.org
X-WR-CALDESC:Events for .
REFRESH-INTERVAL;VALUE=DURATION:PT1H
X-Robots-Tag:noindex
X-PUBLISHED-TTL:PT1H
BEGIN:VTIMEZONE
TZID:UTC
BEGIN:STANDARD
TZOFFSETFROM:+0000
TZOFFSETTO:+0000
TZNAME:UTC
DTSTART:20250101T000000
END:STANDARD
END:VTIMEZONE
BEGIN:VEVENT
DTSTART;TZID=UTC:20250327T170000
DTEND;TZID=UTC:20250327T180000
DTSTAMP:20260423T101619
CREATED:20250310T061709Z
LAST-MODIFIED:20250310T061709Z
UID:2990-1743094800-1743098400@tea.iatefl.org
SUMMARY:TEASIG - How can we help students cope with computer-adaptive testing?
DESCRIPTION:The rise of computer-adaptive testing presents unique challenges for both teachers and learners\, including the uncertainty of the number\, sequence\, and weighting of questions in the exam. In this webinar\, I will share my experience in helping students navigate the technological and emotional demands of computer-adaptive testing\, as well as how I integrate artificial intelligence tools into exam preparation classes. I will place particular emphasis on the differences between preparing students for fixed-form exams and computer-adaptive tests. Finally\, attendees will have the opportunity to reflect on how these strategies can be adapted to their own teaching contexts. \nSpeaker: Myleni Ishida
URL:https://tea.iatefl.org/event/teasig-how-can-we-help-students-cope-with-computer-adaptive-testing/
END:VEVENT
END:VCALENDAR